BEGIN:VCALENDAR
VERSION:2.0
PRODID:-//It&#039;s Those Eggrolls - ECPv6.15.20//NONSGML v1.0//EN
CALSCALE:GREGORIAN
METHOD:PUBLISH
X-ORIGINAL-URL:https://itsthoseeggrolls.net
X-WR-CALDESC:Events for It&#039;s Those Eggrolls
REFRESH-INTERVAL;VALUE=DURATION:PT1H
X-Robots-Tag:noindex
X-PUBLISHED-TTL:PT1H
BEGIN:VTIMEZONE
TZID:America/Indiana/Indianapolis
BEGIN:DAYLIGHT
TZOFFSETFROM:-0500
TZOFFSETTO:-0400
TZNAME:EDT
DTSTART:20250309T070000
END:DAYLIGHT
BEGIN:STANDARD
TZOFFSETFROM:-0400
TZOFFSETTO:-0500
TZNAME:EST
DTSTART:20251102T060000
END:STANDARD
BEGIN:DAYLIGHT
TZOFFSETFROM:-0500
TZOFFSETTO:-0400
TZNAME:EDT
DTSTART:20260308T070000
END:DAYLIGHT
BEGIN:STANDARD
TZOFFSETFROM:-0400
TZOFFSETTO:-0500
TZNAME:EST
DTSTART:20261101T060000
END:STANDARD
BEGIN:DAYLIGHT
TZOFFSETFROM:-0500
TZOFFSETTO:-0400
TZNAME:EDT
DTSTART:20270314T070000
END:DAYLIGHT
BEGIN:STANDARD
TZOFFSETFROM:-0400
TZOFFSETTO:-0500
TZNAME:EST
DTSTART:20271107T060000
END:STANDARD
END:VTIMEZONE
BEGIN:VEVENT
DTSTART;VALUE=DATE:20260516
DTEND;VALUE=DATE:20260517
DTSTAMP:20260420T013556
CREATED:20260121T182003Z
LAST-MODIFIED:20260121T182646Z
UID:1130-1778889600-1778975999@itsthoseeggrolls.net
SUMMARY:Peony Festival
DESCRIPTION:
URL:https://itsthoseeggrolls.net/event/peony-festival/
LOCATION:Indiana Peony Festival\, 350 S 10th St\, Noblesville\, 46060\, United States
ATTACH;FMTTYPE=image/webp:https://itsthoseeggrolls.net/wp-content/uploads/2026/01/20230520-IPF-02332.webp
END:VEVENT
BEGIN:VEVENT
DTSTART;TZID=America/Indiana/Indianapolis:20260627T150000
DTEND;TZID=America/Indiana/Indianapolis:20260627T190000
DTSTAMP:20260420T013556
CREATED:20260121T182256Z
LAST-MODIFIED:20260121T183503Z
UID:1134-1782572400-1782586800@itsthoseeggrolls.net
SUMMARY:UnCorkMe Wine Festival
DESCRIPTION:
URL:https://itsthoseeggrolls.net/event/uncorkme-wine-festival/
LOCATION:Military Park Indianapolis\, 601 W New York St\, Indianapolis\, IN\, 46202\, United States
ATTACH;FMTTYPE=image/webp:https://itsthoseeggrolls.net/wp-content/uploads/2026/01/image.webp
END:VEVENT
BEGIN:VEVENT
DTSTART;VALUE=DATE:20260719
DTEND;VALUE=DATE:20260726
DTSTAMP:20260420T013556
CREATED:20260121T184511Z
LAST-MODIFIED:20260121T184511Z
UID:1139-1784419200-1785023999@itsthoseeggrolls.net
SUMMARY:Hendricks County Fair
DESCRIPTION:
URL:https://itsthoseeggrolls.net/event/hendricks-county-fair/
LOCATION:Hendricks County Fair\, 1900 E Main St\, Danville\, IN\, 46122\, United States
ATTACH;FMTTYPE=image/webp:https://itsthoseeggrolls.net/wp-content/uploads/2026/01/Scanned_20260114-0905_Page_20-scaled.webp
END:VEVENT
BEGIN:VEVENT
DTSTART;VALUE=DATE:20260730
DTEND;VALUE=DATE:20260803
DTSTAMP:20260420T013556
CREATED:20260121T185217Z
LAST-MODIFIED:20260121T185217Z
UID:1143-1785369600-1785715199@itsthoseeggrolls.net
SUMMARY:Gen Con Indy 2026
DESCRIPTION:
URL:https://itsthoseeggrolls.net/event/gen-con-indy-2026/
LOCATION:Indianapolis Convention Center\, 100 S Capitol Ave\, Indianapolis\, IN\, 46225\, United States
ATTACH;FMTTYPE=image/png:https://itsthoseeggrolls.net/wp-content/uploads/2026/01/Screenshot-2026-01-21-at-1.51.55-PM.png
END:VEVENT
BEGIN:VEVENT
DTSTART;VALUE=DATE:20260807
DTEND;VALUE=DATE:20260824
DTSTAMP:20260420T013556
CREATED:20260121T185756Z
LAST-MODIFIED:20260121T185756Z
UID:1147-1786060800-1787529599@itsthoseeggrolls.net
SUMMARY:Indiana State Fair
DESCRIPTION:
URL:https://itsthoseeggrolls.net/event/indiana-state-fair/
LOCATION:Indiana State Fair\, 1202 E. 38TH ST\, indianapolis\, IN\, 46205\, United States
ATTACH;FMTTYPE=image/png:https://itsthoseeggrolls.net/wp-content/uploads/2026/01/Screenshot-2026-01-21-at-1.55.17-PM.png
END:VEVENT
BEGIN:VEVENT
DTSTART;TZID=America/Indiana/Indianapolis:20260923T080000
DTEND;TZID=America/Indiana/Indianapolis:20260927T170000
DTSTAMP:20260420T013556
CREATED:20260121T190135Z
LAST-MODIFIED:20260121T190135Z
UID:1151-1790150400-1790528400@itsthoseeggrolls.net
SUMMARY:Ducktail Run Car Show
DESCRIPTION:
URL:https://itsthoseeggrolls.net/event/ducktail-run-car-show/
LOCATION:Ducktail Run Rod and Custom\, 701 S Broadway St\, Gas City\, IN\, 46933\, United States
ATTACH;FMTTYPE=image/webp:https://itsthoseeggrolls.net/wp-content/uploads/2026/01/unnamed.webp
END:VEVENT
END:VCALENDAR